BEGIN:VCALENDAR
VERSION:2.0
PRODID:-//A/B Tomsgårdshuse - ECPv6.15.20//NONSGML v1.0//EN
CALSCALE:GREGORIAN
METHOD:PUBLISH
X-WR-CALNAME:A/B Tomsgårdshuse
X-ORIGINAL-URL:https://tomsgaardshuse.dk
X-WR-CALDESC:Begivenheder for A/B Tomsgårdshuse
REFRESH-INTERVAL;VALUE=DURATION:PT1H
X-Robots-Tag:noindex
X-PUBLISHED-TTL:PT1H
BEGIN:VTIMEZONE
TZID:Europe/Copenhagen
BEGIN:DAYLIGHT
TZOFFSETFROM:+0100
TZOFFSETTO:+0200
TZNAME:CEST
DTSTART:20250330T010000
END:DAYLIGHT
BEGIN:STANDARD
TZOFFSETFROM:+0200
TZOFFSETTO:+0100
TZNAME:CET
DTSTART:20251026T010000
END:STANDARD
BEGIN:DAYLIGHT
TZOFFSETFROM:+0100
TZOFFSETTO:+0200
TZNAME:CEST
DTSTART:20260329T010000
END:DAYLIGHT
BEGIN:STANDARD
TZOFFSETFROM:+0200
TZOFFSETTO:+0100
TZNAME:CET
DTSTART:20261025T010000
END:STANDARD
BEGIN:DAYLIGHT
TZOFFSETFROM:+0100
TZOFFSETTO:+0200
TZNAME:CEST
DTSTART:20270328T010000
END:DAYLIGHT
BEGIN:STANDARD
TZOFFSETFROM:+0200
TZOFFSETTO:+0100
TZNAME:CET
DTSTART:20271031T010000
END:STANDARD
BEGIN:DAYLIGHT
TZOFFSETFROM:+0100
TZOFFSETTO:+0200
TZNAME:CEST
DTSTART:20280326T010000
END:DAYLIGHT
BEGIN:STANDARD
TZOFFSETFROM:+0200
TZOFFSETTO:+0100
TZNAME:CET
DTSTART:20281029T010000
END:STANDARD
END:VTIMEZONE
BEGIN:VEVENT
DTSTART;TZID=Europe/Copenhagen:20260504T080000
DTEND;TZID=Europe/Copenhagen:20260504T120000
DTSTAMP:20260419T145815
CREATED:20260415T013501Z
LAST-MODIFIED:20260415T014435Z
UID:5900-1777881600-1777896000@tomsgaardshuse.dk
SUMMARY:Før-registering blok 12 A+B+C
DESCRIPTION:Entreprenøren vil inden opstart i boligerne udføre en før-\nregistrering af din bolig\, så alt kan foregå gnidningsfrit\, når de skal arbejde i din lejlighed.\nTil før-registreringen kan du samtidigt spørge entreprenøren om eventuelle bekymringer og praktiske forhold.
URL:https://tomsgaardshuse.dk/kalender/foer-registering-blok-10-abc/
END:VEVENT
BEGIN:VEVENT
DTSTART;TZID=Europe/Copenhagen:20260505T080000
DTEND;TZID=Europe/Copenhagen:20260505T120000
DTSTAMP:20260419T145815
CREATED:20260415T014135Z
LAST-MODIFIED:20260415T014342Z
UID:5905-1777968000-1777982400@tomsgaardshuse.dk
SUMMARY:Før-registering blok 12 D-E-F
DESCRIPTION:Entreprenøren vil inden opstart i boligerne udføre en før-registrering af din bolig\, så alt kan foregå gnidningsfrit\, når de skal arbejde i din lejlighed.\nTil før-registreringen kan du samtidigt spørge entreprenøren om eventuelle bekymringer og praktiske forhold.
URL:https://tomsgaardshuse.dk/kalender/foer-registering-blok-10-d-e-f/
END:VEVENT
BEGIN:VEVENT
DTSTART;TZID=Europe/Copenhagen:20260506T080000
DTEND;TZID=Europe/Copenhagen:20260506T120000
DTSTAMP:20260419T145815
CREATED:20260415T014257Z
LAST-MODIFIED:20260415T014409Z
UID:5907-1778054400-1778068800@tomsgaardshuse.dk
SUMMARY:Før-registering blok 12 G+E+I
DESCRIPTION:Entreprenøren vil inden opstart i boligerne udføre en før-registrering af din bolig\, så alt kan foregå gnidningsfrit\, når de skal arbejde i din lejlighed.\nTil før-registreringen kan du samtidigt spørge entreprenøren om eventuelle bekymringer og praktiske forhold.
URL:https://tomsgaardshuse.dk/kalender/foer-registering-blok-13-gei/
END:VEVENT
BEGIN:VEVENT
DTSTART;TZID=Europe/Copenhagen:20260615T080000
DTEND;TZID=Europe/Copenhagen:20260615T080000
DTSTAMP:20260419T145815
CREATED:20260415T014815Z
LAST-MODIFIED:20260415T014815Z
UID:5916-1781510400-1781510400@tomsgaardshuse.dk
SUMMARY:Før-registering blok 14 A+B+C
DESCRIPTION:Entreprenøren vil inden opstart i boligerne udføre en før-registrering af din bolig\, så alt kan foregå gnidningsfrit\, når de skal arbejde i din lejlighed.\nTil før-registreringen kan du samtidigt spørge entreprenøren om eventuelle bekymringer og praktiske forhold.
URL:https://tomsgaardshuse.dk/kalender/foer-registering-blok-14-abc/
END:VEVENT
BEGIN:VEVENT
DTSTART;TZID=Europe/Copenhagen:20260616T080000
DTEND;TZID=Europe/Copenhagen:20260616T120000
DTSTAMP:20260419T145815
CREATED:20260415T014938Z
LAST-MODIFIED:20260415T014938Z
UID:5918-1781596800-1781611200@tomsgaardshuse.dk
SUMMARY:Før-registering blok 14 D+E+F
DESCRIPTION:Entreprenøren vil inden opstart i boligerne udføre en før-registrering af din bolig\, så alt kan foregå gnidningsfrit\, når de skal arbejde i din lejlighed.\nTil før-registreringen kan du samtidigt spørge entreprenøren om eventuelle bekymringer og praktiske forhold.
URL:https://tomsgaardshuse.dk/kalender/foer-registering-blok-14-def/
END:VEVENT
BEGIN:VEVENT
DTSTART;TZID=Europe/Copenhagen:20261019T080000
DTEND;TZID=Europe/Copenhagen:20261019T120000
DTSTAMP:20260419T145815
CREATED:20260415T015550Z
LAST-MODIFIED:20260415T015918Z
UID:5922-1792396800-1792411200@tomsgaardshuse.dk
SUMMARY:Før-registering Frederikssundsvej 92 A+B+C
DESCRIPTION:Entreprenøren vil inden opstart i boligerne udføre en før-registrering af din bolig\, så alt kan foregå gnidningsfrit\, når de skal arbejde i din lejlighed.\nTil før-registreringen kan du samtidigt spørge entreprenøren om eventuelle bekymringer og praktiske forhold. \nDer vil blive afholdt et særskilt møde for beboere i randen forinden.\nDu modtager en indkaldelse i god tid.
URL:https://tomsgaardshuse.dk/kalender/frederikssundsvej-92-abc/
END:VEVENT
BEGIN:VEVENT
DTSTART;TZID=Europe/Copenhagen:20261020T080000
DTEND;TZID=Europe/Copenhagen:20261020T120000
DTSTAMP:20260419T145815
CREATED:20260415T015719Z
LAST-MODIFIED:20260415T015927Z
UID:5924-1792483200-1792497600@tomsgaardshuse.dk
SUMMARY:Før-registering Frederikssundsvej 92 D + 94 A + 94 B
DESCRIPTION:Entreprenøren vil inden opstart i boligerne udføre en før-registrering af din bolig\, så alt kan foregå gnidningsfrit\, når de skal arbejde i din lejlighed.\nTil før-registreringen kan du samtidigt spørge entreprenøren om eventuelle bekymringer og praktiske forhold. \nDer vil blive afholdt et særskilt møde for beboere i randen forinden.\nDu modtager en indkaldelse i god tid.
URL:https://tomsgaardshuse.dk/kalender/frederikssundsvej-92-d-94-a-94-b/
END:VEVENT
BEGIN:VEVENT
DTSTART;TZID=Europe/Copenhagen:20261021T080000
DTEND;TZID=Europe/Copenhagen:20261021T120000
DTSTAMP:20260419T145815
CREATED:20260415T015832Z
LAST-MODIFIED:20260415T015936Z
UID:5926-1792569600-1792584000@tomsgaardshuse.dk
SUMMARY:Før-registering Frederikssundsvej 94C+D+E+F
DESCRIPTION:Entreprenøren vil inden opstart i boligerne udføre en før-registrering af din bolig\, så alt kan foregå gnidningsfrit\, når de skal arbejde i din lejlighed.\nTil før-registreringen kan du samtidigt spørge entreprenøren om eventuelle bekymringer og praktiske forhold. \nDer vil blive afholdt et særskilt møde for beboere i randen forinden.\nDu modtager en indkaldelse i god tid.
URL:https://tomsgaardshuse.dk/kalender/frederikssundsvej-94cdef/
END:VEVENT
BEGIN:VEVENT
DTSTART;TZID=Europe/Copenhagen:20261112T183000
DTEND;TZID=Europe/Copenhagen:20261112T210000
DTSTAMP:20260419T145815
CREATED:20260415T012618Z
LAST-MODIFIED:20260415T012651Z
UID:5897-1794508200-1794517200@tomsgaardshuse.dk
SUMMARY:Generalforsamling
DESCRIPTION:
URL:https://tomsgaardshuse.dk/kalender/generalforsamling/
LOCATION:Beboerhuset\, Møntmestervej 14L
END:VEVENT
BEGIN:VEVENT
DTSTART;TZID=Europe/Copenhagen:20270111T080000
DTEND;TZID=Europe/Copenhagen:20270111T120000
DTSTAMP:20260419T145815
CREATED:20260415T020048Z
LAST-MODIFIED:20260415T020048Z
UID:5931-1799654400-1799668800@tomsgaardshuse.dk
SUMMARY:Før-registering Møntmestervej 16+18+20
DESCRIPTION:Entreprenøren vil inden opstart i boligerne udføre en før-registrering af din bolig\, så alt kan foregå gnidningsfrit\, når de skal arbejde i din lejlighed.\nTil før-registreringen kan du samtidigt spørge entreprenøren om eventuelle bekymringer og praktiske forhold. \nDer vil blive afholdt et særskilt møde for beboere i randen forinden.\nDu modtager en indkaldelse i god tid.
URL:https://tomsgaardshuse.dk/kalender/foer-registering-moentmestervej-161820/
END:VEVENT
BEGIN:VEVENT
DTSTART;TZID=Europe/Copenhagen:20270112T080000
DTEND;TZID=Europe/Copenhagen:20270112T120000
DTSTAMP:20260419T145815
CREATED:20260415T020221Z
LAST-MODIFIED:20260415T020221Z
UID:5933-1799740800-1799755200@tomsgaardshuse.dk
SUMMARY:Før-registering Møntmestervej 22+24 og Tomsgårdsvej 13B
DESCRIPTION:Entreprenøren vil inden opstart i boligerne udføre en før-registrering af din bolig\, så alt kan foregå gnidningsfrit\, når de skal arbejde i din lejlighed.\nTil før-registreringen kan du samtidigt spørge entreprenøren om eventuelle bekymringer og praktiske forhold. \nDer vil blive afholdt et særskilt møde for beboere i randen forinden.\nDu modtager en indkaldelse i god tid.
URL:https://tomsgaardshuse.dk/kalender/foer-registering-moentmestervej-2224-og-tomsgaardsvej-13b/
END:VEVENT
BEGIN:VEVENT
DTSTART;TZID=Europe/Copenhagen:20270113T080000
DTEND;TZID=Europe/Copenhagen:20270113T120000
DTSTAMP:20260419T145815
CREATED:20260415T020408Z
LAST-MODIFIED:20260415T020408Z
UID:5935-1799827200-1799841600@tomsgaardshuse.dk
SUMMARY:Før-registering Tomsgårdsvej 13A +11 + 9
DESCRIPTION:Entreprenøren vil inden opstart i boligerne udføre en før-registrering af din bolig\, så alt kan foregå gnidningsfrit\, når de skal arbejde i din lejlighed.\nTil før-registreringen kan du samtidigt spørge entreprenøren om eventuelle bekymringer og praktiske forhold. \nDer vil blive afholdt et særskilt møde for beboere i randen forinden.\nDu modtager en indkaldelse i god tid.
URL:https://tomsgaardshuse.dk/kalender/foer-registering-tomsgaardsvej-13a-11-9/
END:VEVENT
BEGIN:VEVENT
DTSTART;TZID=Europe/Copenhagen:20270114T080000
DTEND;TZID=Europe/Copenhagen:20270114T120000
DTSTAMP:20260419T145815
CREATED:20260415T020518Z
LAST-MODIFIED:20260415T020518Z
UID:5937-1799913600-1799928000@tomsgaardshuse.dk
SUMMARY:Før-registering Tomsgårdsvej 7+5+3+1
DESCRIPTION:Entreprenøren vil inden opstart i boligerne udføre en før-registrering af din bolig\, så alt kan foregå gnidningsfrit\, når de skal arbejde i din lejlighed.\nTil før-registreringen kan du samtidigt spørge entreprenøren om eventuelle bekymringer og praktiske forhold. \nDer vil blive afholdt et særskilt møde for beboere i randen forinden.\nDu modtager en indkaldelse i god tid.
URL:https://tomsgaardshuse.dk/kalender/foer-registering-tomsgaardsvej-7531/
END:VEVENT
END:VCALENDAR